BEGIN:VCALENDAR
VERSION:2.0
PRODID:-//Natalie Stadelmann - ECPv6.15.17.1//NONSGML v1.0//EN
CALSCALE:GREGORIAN
METHOD:PUBLISH
X-WR-CALNAME:Natalie Stadelmann
X-ORIGINAL-URL:https://natalie-stadelmann.de
X-WR-CALDESC:Veranstaltungen für Natalie Stadelmann
REFRESH-INTERVAL;VALUE=DURATION:PT1H
X-Robots-Tag:noindex
X-PUBLISHED-TTL:PT1H
BEGIN:VTIMEZONE
TZID:Europe/Helsinki
BEGIN:DAYLIGHT
TZOFFSETFROM:+0200
TZOFFSETTO:+0300
TZNAME:EEST
DTSTART:20220327T010000
END:DAYLIGHT
BEGIN:STANDARD
TZOFFSETFROM:+0300
TZOFFSETTO:+0200
TZNAME:EET
DTSTART:20221030T010000
END:STANDARD
BEGIN:DAYLIGHT
TZOFFSETFROM:+0200
TZOFFSETTO:+0300
TZNAME:EEST
DTSTART:20230326T010000
END:DAYLIGHT
BEGIN:STANDARD
TZOFFSETFROM:+0300
TZOFFSETTO:+0200
TZNAME:EET
DTSTART:20231029T010000
END:STANDARD
BEGIN:DAYLIGHT
TZOFFSETFROM:+0200
TZOFFSETTO:+0300
TZNAME:EEST
DTSTART:20240331T010000
END:DAYLIGHT
BEGIN:STANDARD
TZOFFSETFROM:+0300
TZOFFSETTO:+0200
TZNAME:EET
DTSTART:20241027T010000
END:STANDARD
END:VTIMEZONE
BEGIN:VEVENT
DTSTART;TZID=Europe/Helsinki:20230920T100000
DTEND;TZID=Europe/Helsinki:20230922T170000
DTSTAMP:20260424T150126
CREATED:20230725T104401Z
LAST-MODIFIED:20230725T104401Z
UID:1276-1695204000-1695402000@natalie-stadelmann.de
SUMMARY:Riechphysiologie; Studien sichten\,werten\, verstehen; Physiologie der Haut und Cremegrundlagen; Haftungsfragen; Aromapflege in der Praxis
DESCRIPTION:In diesem Ausbildungsmodul spannt sich der Themenbogen von klinischen Studien über die Physiologie des Riechens\, zur Aromapflege im klinischen ebenso wie im ambulanten Pflegealltag sowie in der Palliativpflege. Die Haut hat vielfältige Schutzfunktionen und ist ein wesentlicher Bestandteil unseres Immunsystems. Da sie in der Aromatherapie und -pflege eine wichtige Rolle spielt\, stellt sie einen inhaltlichen Schwerpunkt dieses Ausbildungsmoduls dar. Ein weiterer Teil dieses Moduls sind Wirkungen und Haftungsfragen bei der Anwendung ätherischer und fetter Pflanzenöle.\nDie Inhalte im Einzelnen:\n• die spannende Welt der Riechphysiologie\n• die Haut: Physiologie\, Aufbau und Funktionen\, Hautbilder\, Hauterkrankungen\n• gemeinsame Zusammenstellung einer Creme und kritisches Betrachten von Rezepturen sowie deren Möglichkeiten und Grenzen bei der Anwendung im beruflichen Alltag\n• Überblick über fachwissenschaftliche Literatur und Studien: recherchieren\, lesen und verstehen\n• der Blick einer Rechtsanwältin auf Haftungsfragen\, die Möglichkeiten und Grenzen der einzelnen Berufsgruppen\n• rechtliche Pflichten nach dem „Gesetz zur Verbesserung der Rechte von Patientinnen und Patienten“\n• die fachspezifische und praktische Anwendung von ätherischen und fetten Pflanzenölen sowie fertigen Aromamischungen in der Aromapflege:\n– praktische Beispiele aus der Kranken-\, Alten- und Palliativpflege\n– die Dokumentation von Aromapflege Änderungen vorbehalten
URL:https://natalie-stadelmann.de/veranstaltung/riechphysiologie-studien-sichtenwerten-verstehen-physiologie-der-haut-und-cremegrundlagen-haftungsfragen-aromapflege-in-der-praxis/
LOCATION:Stadelmann Verlag\, Nesso 8\, Wiggensbach\, Bayern\, 87487\, Deutschland
CATEGORIES:Allgemein,Aromatherapie,Aromatherapie-Ausbildung,Fachfortbildungen,Hebammen,Naturheilkunde
ATTACH;FMTTYPE=image/jpeg:https://natalie-stadelmann.de/wp-content/uploads/2019/10/LAVENDELHAND.jpg
ORGANIZER;CN="Bahnhof-Apotheke Kempten":MAILTO:seminar@bahnhof-apotheke.de
END:VEVENT
END:VCALENDAR