BEGIN:VCALENDAR
VERSION:2.0
PRODID:-//Natalie Stadelmann - ECPv6.15.17.1//NONSGML v1.0//EN
CALSCALE:GREGORIAN
METHOD:PUBLISH
X-WR-CALNAME:Natalie Stadelmann
X-ORIGINAL-URL:https://natalie-stadelmann.de
X-WR-CALDESC:Veranstaltungen für Natalie Stadelmann
REFRESH-INTERVAL;VALUE=DURATION:PT1H
X-Robots-Tag:noindex
X-PUBLISHED-TTL:PT1H
BEGIN:VTIMEZONE
TZID:Europe/Helsinki
BEGIN:DAYLIGHT
TZOFFSETFROM:+0200
TZOFFSETTO:+0300
TZNAME:EEST
DTSTART:20220327T010000
END:DAYLIGHT
BEGIN:STANDARD
TZOFFSETFROM:+0300
TZOFFSETTO:+0200
TZNAME:EET
DTSTART:20221030T010000
END:STANDARD
BEGIN:DAYLIGHT
TZOFFSETFROM:+0200
TZOFFSETTO:+0300
TZNAME:EEST
DTSTART:20230326T010000
END:DAYLIGHT
BEGIN:STANDARD
TZOFFSETFROM:+0300
TZOFFSETTO:+0200
TZNAME:EET
DTSTART:20231029T010000
END:STANDARD
BEGIN:DAYLIGHT
TZOFFSETFROM:+0200
TZOFFSETTO:+0300
TZNAME:EEST
DTSTART:20240331T010000
END:DAYLIGHT
BEGIN:STANDARD
TZOFFSETFROM:+0300
TZOFFSETTO:+0200
TZNAME:EET
DTSTART:20241027T010000
END:STANDARD
END:VTIMEZONE
BEGIN:VEVENT
DTSTART;TZID=Europe/Helsinki:20231009T093000
DTEND;TZID=Europe/Helsinki:20231009T113000
DTSTAMP:20260424T121814
CREATED:20230801T140055Z
LAST-MODIFIED:20231116T171122Z
UID:1416-1696843800-1696851000@natalie-stadelmann.de
SUMMARY:Präsenz-Workshop Babybeikost- auf kulinarischer Entdeckungsreise
DESCRIPTION:Brei\, Fingerfood\, Baby-led-Weanig\, vegetarisch\, vegan…Viele Möglichkeiten\, die es für Dein Baby auf seiner ersten kulinarischen Entdeckungsreise gibt. \nDamit`s vom ersten Häppchen an schmeckt\, zeige ich worauf Du beim Thema Baby-Beikost achten musst. In dem Workshop geht es insbesondere um\n• allgemeine Empfehlungen zur Einführung von Baby-Beikost\n• geeignete Nahrungsmittel für das erste Lebensjahr\n• Informationen zur Allergieprophylaxe\n• Tipps zur Zubereitung von Baby-Breien und Fingerfood \nIch beantwortete auch Deine persönlichen Fragen. Die Bedürfnisse und die Individualität des Kindes werden dabei ebenso berücksichtigt wie die Ernährungsgewohnheiten der Familie. \nDi. 23. Januar 2024 von 09:30 – 11:30 Uhr \nKurs-Nr. 2863\nKosten: 19\,50 € \n 
URL:https://natalie-stadelmann.de/veranstaltung/praesenz-workshop-babybeikost-auf-kulinarischer-entdeckungsreise/
LOCATION:Bei Dir zu Hause\, Webinar
CATEGORIES:Allgemein,Beikost,Ernährung,Familie
ATTACH;FMTTYPE=image/jpeg:https://natalie-stadelmann.de/wp-content/uploads/2023/07/IMG_7172.jpeg
ORGANIZER;CN="Bahnhof-Apotheke Kempten":MAILTO:seminar@bahnhof-apotheke.de
END:VEVENT
END:VCALENDAR