BEGIN:VCALENDAR
VERSION:2.0
PRODID:-//Natalie Stadelmann - ECPv6.15.17.1//NONSGML v1.0//EN
CALSCALE:GREGORIAN
METHOD:PUBLISH
X-ORIGINAL-URL:https://natalie-stadelmann.de
X-WR-CALDESC:Veranstaltungen für Natalie Stadelmann
REFRESH-INTERVAL;VALUE=DURATION:PT1H
X-Robots-Tag:noindex
X-PUBLISHED-TTL:PT1H
BEGIN:VTIMEZONE
TZID:Europe/Helsinki
BEGIN:DAYLIGHT
TZOFFSETFROM:+0200
TZOFFSETTO:+0300
TZNAME:EEST
DTSTART:20220327T010000
END:DAYLIGHT
BEGIN:STANDARD
TZOFFSETFROM:+0300
TZOFFSETTO:+0200
TZNAME:EET
DTSTART:20221030T010000
END:STANDARD
BEGIN:DAYLIGHT
TZOFFSETFROM:+0200
TZOFFSETTO:+0300
TZNAME:EEST
DTSTART:20230326T010000
END:DAYLIGHT
BEGIN:STANDARD
TZOFFSETFROM:+0300
TZOFFSETTO:+0200
TZNAME:EET
DTSTART:20231029T010000
END:STANDARD
BEGIN:DAYLIGHT
TZOFFSETFROM:+0200
TZOFFSETTO:+0300
TZNAME:EEST
DTSTART:20240331T010000
END:DAYLIGHT
BEGIN:STANDARD
TZOFFSETFROM:+0300
TZOFFSETTO:+0200
TZNAME:EET
DTSTART:20241027T010000
END:STANDARD
END:VTIMEZONE
BEGIN:VTIMEZONE
TZID:UTC
BEGIN:STANDARD
TZOFFSETFROM:+0000
TZOFFSETTO:+0000
TZNAME:UTC
DTSTART:20220101T000000
END:STANDARD
END:VTIMEZONE
BEGIN:VEVENT
DTSTART;TZID=Europe/Helsinki:20231118T133000
DTEND;TZID=Europe/Helsinki:20231118T143000
DTSTAMP:20260424T104606
CREATED:20230801T142710Z
LAST-MODIFIED:20231116T170617Z
UID:1420-1700314200-1700317800@natalie-stadelmann.de
SUMMARY:Forum Hebammenarbeit  Auf kulinarischer Entdeckungsreise - Beikosternährung up to date
DESCRIPTION:Samstag\, 18. November 2023: 13:30 Uhr – 14:30 Uhr\n  \nVon Geburt an spielt die Ernährung des Babys eine herausragende Rolle im Alltag einer jungen Familie. Unterschiedliche Wege rund um die Ernährung und das Füttern von Babys führen\, manchmal auch in Kombination\, von der Milch zur Familienkost. Nicht einspurig und strikt nach Plan- sondern vielfältig und individuell sollte dies gestaltet sein\, dabei bewusst und ausgewogen ergänzend zur Muttermilch oder Säuglingsmilchnahrung wertvolle Nährstoffe liefern sowie als gemeinsame kulinarische Entdeckungsreise der ganzen Familie Freude am Essen vermitteln. Erfahren Sie praxisnah und aktuell\, wie Familien ihren Weg durch den Beikost-Dschungel finden können und welche Wegweiser Sie Ihnen zur Hand geben können. Dabei stehen die Bedürfnisse und die Individualität jedes Kindes ebenso im Vordergrund wie die Ernährungsgewohnheiten der Familien\, begleitet von wissenschaftlichen Empfehlungen und aktuellen Ernährungstrends.
URL:https://natalie-stadelmann.de/veranstaltung/forum-hebammenarbeit-auf-kulinarische-entdeckungsreise-beikosternaehrung-up-to-date/
LOCATION:Mainz (Rheingoldhalle Mainz)
CATEGORIES:Allgemein,Beikost,Ernährung,Fachfortbildungen,Hebammen
ATTACH;FMTTYPE=image/jpeg:https://natalie-stadelmann.de/wp-content/uploads/2023/07/67020295-3D72-4045-8675-3A4D637C3B57.jpeg
END:VEVENT
BEGIN:VEVENT
DTSTART;TZID=UTC:20231129T100000
DTEND;TZID=UTC:20231129T113000
DTSTAMP:20260424T104606
CREATED:20190819T103700Z
LAST-MODIFIED:20231116T170611Z
UID:34-1701252000-1701257400@natalie-stadelmann.de
SUMMARY:Workshop Baby-Beikost
DESCRIPTION:Damits vom ersten Löffelchen an schmeckt\, zeige ich worauf du beim Thema Baby-Beikost achten musst. In dem Workshop geht es insbesondere um• allgemeine Empfehlungen zur Einführung von Baby-Beikost• geeignete Nahrungsmittel für das erste Lebensjahr• Informationen zur Allergieprävention• Tipps zur Zubereitung von Baby-BreienIch beantwortete auch deine persönlichen Fragen. Die Bedürfnisse und die Individualität des Kindes werden dabei ebenso berücksichtigt wie die Ernährungsgewohnheiten der Familie.
URL:https://natalie-stadelmann.de/veranstaltung/workshop-baby-beikost/
LOCATION:Familienzentrum Rockzipfel e.V. Burgsiedlung 1 87527 Sonthofen\, Burgsiedlung 1\, Sonthofen\, Bayern\, 87527\, Deutschland
CATEGORIES:Allgemein,Beikost,Ernährung,Familie
ATTACH;FMTTYPE=image/jpeg:https://natalie-stadelmann.de/wp-content/uploads/2019/10/IMG_3750-e1570279428890.jpg
ORGANIZER;CN="AELF Kempten (Allg%C3%A4u) Adenauerring 97 87439 Kempten (Allg%C3%A4u)":MAILTO:Poststelle@aelf-ke.bayern.de
END:VEVENT
END:VCALENDAR