BEGIN:VCALENDAR
VERSION:2.0
PRODID:-//Natalie Stadelmann - ECPv6.15.17.1//NONSGML v1.0//EN
CALSCALE:GREGORIAN
METHOD:PUBLISH
X-WR-CALNAME:Natalie Stadelmann
X-ORIGINAL-URL:https://natalie-stadelmann.de
X-WR-CALDESC:Veranstaltungen für Natalie Stadelmann
REFRESH-INTERVAL;VALUE=DURATION:PT1H
X-Robots-Tag:noindex
X-PUBLISHED-TTL:PT1H
BEGIN:VTIMEZONE
TZID:Europe/Helsinki
BEGIN:DAYLIGHT
TZOFFSETFROM:+0200
TZOFFSETTO:+0300
TZNAME:EEST
DTSTART:20230326T010000
END:DAYLIGHT
BEGIN:STANDARD
TZOFFSETFROM:+0300
TZOFFSETTO:+0200
TZNAME:EET
DTSTART:20231029T010000
END:STANDARD
BEGIN:DAYLIGHT
TZOFFSETFROM:+0200
TZOFFSETTO:+0300
TZNAME:EEST
DTSTART:20240331T010000
END:DAYLIGHT
BEGIN:STANDARD
TZOFFSETFROM:+0300
TZOFFSETTO:+0200
TZNAME:EET
DTSTART:20241027T010000
END:STANDARD
BEGIN:DAYLIGHT
TZOFFSETFROM:+0200
TZOFFSETTO:+0300
TZNAME:EEST
DTSTART:20250330T010000
END:DAYLIGHT
BEGIN:STANDARD
TZOFFSETFROM:+0300
TZOFFSETTO:+0200
TZNAME:EET
DTSTART:20251026T010000
END:STANDARD
END:VTIMEZONE
BEGIN:VEVENT
DTSTART;TZID=Europe/Helsinki:20240221T190000
DTEND;TZID=Europe/Helsinki:20240221T210000
DTSTAMP:20260424T030258
CREATED:20230725T100531Z
LAST-MODIFIED:20240119T112621Z
UID:1131-1708542000-1708549200@natalie-stadelmann.de
SUMMARY:Ernährung\, Darm & Immunsystem
DESCRIPTION:Eine ausgewogene Ernährung hat über verschiedene komplexe Mechanismen Einfluss auf unsere Abwehrkräfte. Sowohl die Bereitstellung der Nährstoffe als auch bioaktive Pflanzenstoffe und insbesondere unsere Darmgesundheit und deren mikrobielle Besiedelung entscheiden über ein gut funktionierendes Immunsystem.In unserem Webinar erfahren Sie\, wie Sie über eine abwechslungsreiche und vitale Kost Ihre Darmgesundheit unterstützen\, widerstandsfähiger gegen Infekte werden und gut durchs Jahr kommen.Die Inhalte im Einzelnen:• Grundlagen und Hintergründe zur Funktion unseres Immunsystems\, zu Darmaufbau und Darmmikrobiota• Nährstoffe und Nahrungsmittel-Inhaltsstoffe\, die von besonderer Bedeutung für unsere Abwehrkräfte sind• Ernährungsstil\, Auswahl und Zusammenstellung der Nahrungsmittel \n\n\n\nHier geht`s zur Anmeldung
URL:https://natalie-stadelmann.de/veranstaltung/ernaehrung-darm-immunsystem/
LOCATION:Bei Dir zu Hause\, Webinar
CATEGORIES:Allgemein,Ernährung,Familie,Naturheilkunde
ATTACH;FMTTYPE=image/jpeg:https://natalie-stadelmann.de/wp-content/uploads/2019/10/IMG_5791-e1571476264130.jpg
ORGANIZER;CN="Bahnhof-Apotheke Kempten":MAILTO:seminar@bahnhof-apotheke.de
END:VEVENT
END:VCALENDAR