BEGIN:VCALENDAR
VERSION:2.0
PRODID:-//Natalie Stadelmann - ECPv6.15.17.1//NONSGML v1.0//EN
CALSCALE:GREGORIAN
METHOD:PUBLISH
X-WR-CALNAME:Natalie Stadelmann
X-ORIGINAL-URL:https://natalie-stadelmann.de
X-WR-CALDESC:Veranstaltungen für Natalie Stadelmann
REFRESH-INTERVAL;VALUE=DURATION:PT1H
X-Robots-Tag:noindex
X-PUBLISHED-TTL:PT1H
BEGIN:VTIMEZONE
TZID:Europe/Helsinki
BEGIN:DAYLIGHT
TZOFFSETFROM:+0200
TZOFFSETTO:+0300
TZNAME:EEST
DTSTART:20230326T010000
END:DAYLIGHT
BEGIN:STANDARD
TZOFFSETFROM:+0300
TZOFFSETTO:+0200
TZNAME:EET
DTSTART:20231029T010000
END:STANDARD
BEGIN:DAYLIGHT
TZOFFSETFROM:+0200
TZOFFSETTO:+0300
TZNAME:EEST
DTSTART:20240331T010000
END:DAYLIGHT
BEGIN:STANDARD
TZOFFSETFROM:+0300
TZOFFSETTO:+0200
TZNAME:EET
DTSTART:20241027T010000
END:STANDARD
BEGIN:DAYLIGHT
TZOFFSETFROM:+0200
TZOFFSETTO:+0300
TZNAME:EEST
DTSTART:20250330T010000
END:DAYLIGHT
BEGIN:STANDARD
TZOFFSETFROM:+0300
TZOFFSETTO:+0200
TZNAME:EET
DTSTART:20251026T010000
END:STANDARD
END:VTIMEZONE
BEGIN:VEVENT
DTSTART;TZID=Europe/Helsinki:20240925T100000
DTEND;TZID=Europe/Helsinki:20240927T170000
DTSTAMP:20260423T095649
CREATED:20240110T150545Z
LAST-MODIFIED:20240717T091859Z
UID:1514-1727258400-1727456400@natalie-stadelmann.de
SUMMARY:Physiologie der Haut - naturreine Grundlagen zur Hautpflege; Wickel in Kombination mit Pflanzenölen; Haftungsfragen (Modul V – Kurs 19)
DESCRIPTION:Die Haut\, das größte Organ mit ihren vielfältigen Schutzfunktionen und ein wesentlicher Bestandteil unseres Immunsystems steht im Vordergrund dieses Modul. Zur Hautpflege benötigt es verträgliche und naturreine Creme- und Salbengrundlagen\, sie sind elementarer Baustein von Aromamischungen. Ein weiterer Teil dieses Moduls sind Wirkungen und Haftungsfragen bei der Anwendung ätherischer und fetter Pflanzenöle. Weitere ätherische Öle und deren Einsatz als komplementäre Methode wie auch im privaten Alltag.\nDie Inhalte im Einzelnen:\n• die Haut: Physiologie\, Aufbau und Funktionen\, Hautbilder\, Hauterkrankungen\n• Wirkungen und Inhaltsstoffe von Fetten und Butter als Salben- und Cremegrundlage\n• Gemeinsames Anmischen einen Creme\n• Wickel und Auflagen mit natürlichen Textilien und in Kombination mit Aromamischungen als wohltuende Methode bei Alt und Jung.\n• gemeinsame Zusammenstellung einer Creme und kritisches Betrachten von Rezepturen sowie deren Möglichkeiten und Grenzen bei der Anwendung im beruflichen Alltag\n• Anwendungs- und Wirkungsweisen sowie Dosierungsfragen der erarbeiteten ätherischen Öle in der Pflege\, Therapie\, Kosmetik\, Wellness und im häuslichen Alltag.\nÄnderungen vorbehalten
URL:https://natalie-stadelmann.de/veranstaltung/physiologie-der-haut-naturreine-grundlagen-zur-hautpflege-wickel-in-kombination-mit-pflanzenoelen-haftungsfragen-modul-v-kurs-19/
LOCATION:Stadelmann Verlag\, Nesso 8\, Wiggensbach\, Bayern\, 87487\, Deutschland
CATEGORIES:Allgemein,Aromatherapie,Aromatherapie-Ausbildung,Ausbildungsgang »Aromatherapeut/in« bzw. »Aromaexperte/in der Bahnhof-Apotheke Kempten,Fachfortbildungen,Naturheilkunde,Natürliche Hautpflege
ATTACH;FMTTYPE=image/jpeg:https://natalie-stadelmann.de/wp-content/uploads/2023/07/Sanddorn-Fantaschale-scaled.jpg
ORGANIZER;CN="Bahnhof-Apotheke Kempten":MAILTO:seminar@bahnhof-apotheke.de
END:VEVENT
END:VCALENDAR