BEGIN:VCALENDAR
VERSION:2.0
PRODID:-//Natalie Stadelmann - ECPv6.15.17.1//NONSGML v1.0//EN
CALSCALE:GREGORIAN
METHOD:PUBLISH
X-WR-CALNAME:Natalie Stadelmann
X-ORIGINAL-URL:https://natalie-stadelmann.de
X-WR-CALDESC:Veranstaltungen für Natalie Stadelmann
REFRESH-INTERVAL;VALUE=DURATION:PT1H
X-Robots-Tag:noindex
X-PUBLISHED-TTL:PT1H
BEGIN:VTIMEZONE
TZID:Europe/Helsinki
BEGIN:DAYLIGHT
TZOFFSETFROM:+0200
TZOFFSETTO:+0300
TZNAME:EEST
DTSTART:20220327T010000
END:DAYLIGHT
BEGIN:STANDARD
TZOFFSETFROM:+0300
TZOFFSETTO:+0200
TZNAME:EET
DTSTART:20221030T010000
END:STANDARD
BEGIN:DAYLIGHT
TZOFFSETFROM:+0200
TZOFFSETTO:+0300
TZNAME:EEST
DTSTART:20230326T010000
END:DAYLIGHT
BEGIN:STANDARD
TZOFFSETFROM:+0300
TZOFFSETTO:+0200
TZNAME:EET
DTSTART:20231029T010000
END:STANDARD
BEGIN:DAYLIGHT
TZOFFSETFROM:+0200
TZOFFSETTO:+0300
TZNAME:EEST
DTSTART:20240331T010000
END:DAYLIGHT
BEGIN:STANDARD
TZOFFSETFROM:+0300
TZOFFSETTO:+0200
TZNAME:EET
DTSTART:20241027T010000
END:STANDARD
END:VTIMEZONE
BEGIN:VEVENT
DTSTART;TZID=Europe/Helsinki:20231207T170000
DTEND;TZID=Europe/Helsinki:20231207T190000
DTSTAMP:20260424T032959
CREATED:20230801T141736Z
LAST-MODIFIED:20231116T170604Z
UID:1418-1701968400-1701975600@natalie-stadelmann.de
SUMMARY:ErdmannHAUSER Webinar: Auf kulinarischer Entdeckungsreise- Beikosternährung praxisnah und aktuell
DESCRIPTION:Von Geburt an spielt die Ernährung des Babys eine herausragende Rolle im Alltag einer jungen Familie. Unterschiedliche Wege rund um die Ernährung und das Füttern von Babys führen\, manchmal auch in Kombination\, von der Milch zur Familienkost. Nicht einspurig und strikt nach Plan- sondern vielfältig und individuell und sollen bewusst und ausgewogen ergänzend zur Muttermilch oder Säuglingsmilchnahrung wertvolle Nährstoffe liefern und als gemeinsame kulinarische Entdeckungsreise der ganzen Familie Freude am Essen vermitteln. \nWann ist der richtige Zeitpunkt für die Beikost? Wie erkenne ich die Signale meines Bays? Was darf und soll mein Kind essen? Was ist gesund\, welches Essen schmeckt gut? Wie bereite ich das Essen altersgerecht zu? \nIn diesem Online-Seminar erfahren Sie praxisnah und aktuell\, wie Familien ihren Weg durch den Beikost-Dschungel finden können. Dabei stehen die Bedürfnisse und die Individualität jedes Kindes ebenso im Vordergrund wie die Ernährungsgewohnheiten der Familien\, begleitet von wissenschaftlichen Empfehlungen und aktuellen Ernährungstrends. \n 
URL:https://natalie-stadelmann.de/veranstaltung/erdmannhauser-webinar-auf-kulinarischer-entdeckungsreise-beikosternaehrung-up-to-date/
LOCATION:Online-Seminar
CATEGORIES:Allgemein,Beikost,Ernährung,Fachfortbildungen,Hebammen
ATTACH;FMTTYPE=image/png:https://natalie-stadelmann.de/wp-content/uploads/2021/07/Erdmannhauser-Logo-web.png
ORGANIZER;CN="ErdmannHAUSER Getreideprodukte GmbH Robert-Bosch-Stra%C3%9Fe 17 %C2%B7 DE-71729 Erdmannhausen  %C2%B7":MAILTO:info@erdmannhauser.de
END:VEVENT
END:VCALENDAR